BEGIN:VCALENDAR
VERSION:2.0
PRODID:-//Thomas Channell - ECPv4.6.16//NONSGML v1.0//EN
CALSCALE:GREGORIAN
METHOD:PUBLISH
X-WR-CALNAME:Thomas Channell
X-ORIGINAL-URL:https://thomaschannell.com
X-WR-CALDESC:Events for Thomas Channell
BEGIN:VEVENT
DTSTART;TZID=Europe/Berlin:20170927T203000
DTEND;TZID=Europe/Berlin:20170927T203000
DTSTAMP:20260421T084449
CREATED:20170719T170739Z
LAST-MODIFIED:20170720T081945Z
UID:69-1506544200-1506544200@thomaschannell.com
SUMMARY:The Oblomov Sessions
DESCRIPTION:
URL:https://thomaschannell.com/event/oblomov-sessions/
LOCATION:Lenaustrasse 7\, Berlin\, 12047\, Germany
ATTACH;FMTTYPE=image/jpeg:https://thomaschannell.com/wp-content/uploads/2017/07/Thomas-Channell-Kaffee-Burger.jpg
END:VEVENT
END:VCALENDAR